BEGIN:VCALENDAR
VERSION:2.0
PRODID:-//OG-Eddersheim - ECPv6.15.20//NONSGML v1.0//EN
CALSCALE:GREGORIAN
METHOD:PUBLISH
X-WR-CALNAME:OG-Eddersheim
X-ORIGINAL-URL:https://og-eddersheim.de
X-WR-CALDESC:Veranstaltungen für OG-Eddersheim
REFRESH-INTERVAL;VALUE=DURATION:PT1H
X-Robots-Tag:noindex
X-PUBLISHED-TTL:PT1H
BEGIN:VTIMEZONE
TZID:Europe/Berlin
BEGIN:DAYLIGHT
TZOFFSETFROM:+0100
TZOFFSETTO:+0200
TZNAME:CEST
DTSTART:20230326T010000
END:DAYLIGHT
BEGIN:STANDARD
TZOFFSETFROM:+0200
TZOFFSETTO:+0100
TZNAME:CET
DTSTART:20231029T010000
END:STANDARD
BEGIN:DAYLIGHT
TZOFFSETFROM:+0100
TZOFFSETTO:+0200
TZNAME:CEST
DTSTART:20240331T010000
END:DAYLIGHT
BEGIN:STANDARD
TZOFFSETFROM:+0200
TZOFFSETTO:+0100
TZNAME:CET
DTSTART:20241027T010000
END:STANDARD
BEGIN:DAYLIGHT
TZOFFSETFROM:+0100
TZOFFSETTO:+0200
TZNAME:CEST
DTSTART:20250330T010000
END:DAYLIGHT
BEGIN:STANDARD
TZOFFSETFROM:+0200
TZOFFSETTO:+0100
TZNAME:CET
DTSTART:20251026T010000
END:STANDARD
END:VTIMEZONE
BEGIN:VEVENT
DTSTART;TZID=Europe/Berlin:20240606T080000
DTEND;TZID=Europe/Berlin:20240606T160000
DTSTAMP:20260422T231021
CREATED:20221217T111522Z
LAST-MODIFIED:20221217T111524Z
UID:1046-1717660800-1717689600@og-eddersheim.de
SUMMARY:PT @ OG Eddersheim
DESCRIPTION:Sandra Imhoff\n\n\n\n\n\n\n\n\n\n0163 – 7774411 \n\n\n\n\n\n\n\n\n\nE-Mail \n\n\n\n\n\n\n\n\n\nWebsite
URL:https://og-eddersheim.de/event/pt-og-eddersheim-14/
LOCATION:Vereinsgelände OG Eddersheim\, Mönchhofstraße 40\, Hattersheim am Main\, 65795\, Deutschland
ATTACH;FMTTYPE=image/jpeg:https://og-eddersheim.de/wp-content/uploads/2022/01/zf-logo-klein.jpg
END:VEVENT
BEGIN:VEVENT
DTSTART;TZID=Europe/Berlin:20240607T080000
DTEND;TZID=Europe/Berlin:20240607T160000
DTSTAMP:20260422T231021
CREATED:20221217T111532Z
LAST-MODIFIED:20221217T111534Z
UID:1045-1717747200-1717776000@og-eddersheim.de
SUMMARY:PT @ OG Eddersheim
DESCRIPTION:Sandra Imhoff\n\n\n\n\n\n\n\n\n\n0163 – 7774411 \n\n\n\n\n\n\n\n\n\nE-Mail \n\n\n\n\n\n\n\n\n\nWebsite
URL:https://og-eddersheim.de/event/pt-og-eddersheim-15/
LOCATION:Vereinsgelände OG Eddersheim\, Mönchhofstraße 40\, Hattersheim am Main\, 65795\, Deutschland
ATTACH;FMTTYPE=image/jpeg:https://og-eddersheim.de/wp-content/uploads/2022/01/zf-logo-klein.jpg
END:VEVENT
BEGIN:VEVENT
DTSTART;TZID=Europe/Berlin:20240613T080000
DTEND;TZID=Europe/Berlin:20240613T160000
DTSTAMP:20260422T231021
CREATED:20221216T135558Z
LAST-MODIFIED:20221216T135559Z
UID:1008-1718265600-1718294400@og-eddersheim.de
SUMMARY:SI HT-ED I 24/06 @ OG Eddersheim
DESCRIPTION:Sandra Imhoff\n\n\n\n\n\n\n\n\n\n0163 – 7774411 \n\n\n\n\n\n\n\n\n\nE-Mail \n\n\n\n\n\n\n\n\n\nWebsite
URL:https://og-eddersheim.de/event/si-ht-ed-i-24-06-og-eddersheim/
LOCATION:Vereinsgelände OG Eddersheim\, Mönchhofstraße 40\, Hattersheim am Main\, 65795\, Deutschland
ATTACH;FMTTYPE=image/jpeg:https://og-eddersheim.de/wp-content/uploads/2022/01/zf-logo-klein.jpg
END:VEVENT
BEGIN:VEVENT
DTSTART;TZID=Europe/Berlin:20240614T080000
DTEND;TZID=Europe/Berlin:20240614T160000
DTSTAMP:20260422T231021
CREATED:20221216T135624Z
LAST-MODIFIED:20221216T135625Z
UID:1010-1718352000-1718380800@og-eddersheim.de
SUMMARY:SI HT-ED I 24/06 @ OG Eddersheim
DESCRIPTION:Sandra Imhoff\n\n\n\n\n\n\n\n\n\n0163 – 7774411 \n\n\n\n\n\n\n\n\n\nE-Mail \n\n\n\n\n\n\n\n\n\nWebsite
URL:https://og-eddersheim.de/event/si-ht-ed-i-24-06-og-eddersheim-2/
LOCATION:Vereinsgelände OG Eddersheim\, Mönchhofstraße 40\, Hattersheim am Main\, 65795\, Deutschland
ATTACH;FMTTYPE=image/jpeg:https://og-eddersheim.de/wp-content/uploads/2022/01/zf-logo-klein.jpg
END:VEVENT
BEGIN:VEVENT
DTSTART;TZID=Europe/Berlin:20240620T080000
DTEND;TZID=Europe/Berlin:20240620T160000
DTSTAMP:20260422T231021
CREATED:20221216T134650Z
LAST-MODIFIED:20221216T134651Z
UID:975-1718870400-1718899200@og-eddersheim.de
SUMMARY:SI HT-ED II 23/10 @ OG Eddersheim
DESCRIPTION:Sandra Imhoff\n\n\n\n\n\n\n\n\n\n0163 – 7774411 \n\n\n\n\n\n\n\n\n\nE-Mail \n\n\n\n\n\n\n\n\n\nWebsite
URL:https://og-eddersheim.de/event/si-ht-ed-ii-23-10-og-eddersheim/
LOCATION:Vereinsgelände OG Eddersheim\, Mönchhofstraße 40\, Hattersheim am Main\, 65795\, Deutschland
ATTACH;FMTTYPE=image/jpeg:https://og-eddersheim.de/wp-content/uploads/2022/01/zf-logo-klein.jpg
END:VEVENT
BEGIN:VEVENT
DTSTART;TZID=Europe/Berlin:20240621T080000
DTEND;TZID=Europe/Berlin:20240621T160000
DTSTAMP:20260422T231021
CREATED:20221216T134707Z
LAST-MODIFIED:20221216T134708Z
UID:977-1718956800-1718985600@og-eddersheim.de
SUMMARY:SI HT-ED II 23/10 @ OG Eddersheim
DESCRIPTION:Sandra Imhoff\n\n\n\n\n\n\n\n\n\n0163 – 7774411 \n\n\n\n\n\n\n\n\n\nE-Mail \n\n\n\n\n\n\n\n\n\nWebsite
URL:https://og-eddersheim.de/event/si-ht-ed-ii-23-10-og-eddersheim-2/
LOCATION:Vereinsgelände OG Eddersheim\, Mönchhofstraße 40\, Hattersheim am Main\, 65795\, Deutschland
ATTACH;FMTTYPE=image/jpeg:https://og-eddersheim.de/wp-content/uploads/2022/01/zf-logo-klein.jpg
END:VEVENT
END:VCALENDAR